BEGIN:VCALENDAR
VERSION:2.0
PRODID:-//Granite City Community Band - ECPv6.15.20//NONSGML v1.0//EN
CALSCALE:GREGORIAN
METHOD:PUBLISH
X-ORIGINAL-URL:https://graniteband.com/wordpress
X-WR-CALDESC:Events for Granite City Community Band
REFRESH-INTERVAL;VALUE=DURATION:PT1H
X-Robots-Tag:noindex
X-PUBLISHED-TTL:PT1H
BEGIN:VTIMEZONE
TZID:America/Chicago
BEGIN:DAYLIGHT
TZOFFSETFROM:-0600
TZOFFSETTO:-0500
TZNAME:CDT
DTSTART:20130310T080000
END:DAYLIGHT
BEGIN:STANDARD
TZOFFSETFROM:-0500
TZOFFSETTO:-0600
TZNAME:CST
DTSTART:20131103T070000
END:STANDARD
BEGIN:DAYLIGHT
TZOFFSETFROM:-0600
TZOFFSETTO:-0500
TZNAME:CDT
DTSTART:20140309T080000
END:DAYLIGHT
BEGIN:STANDARD
TZOFFSETFROM:-0500
TZOFFSETTO:-0600
TZNAME:CST
DTSTART:20141102T070000
END:STANDARD
BEGIN:DAYLIGHT
TZOFFSETFROM:-0600
TZOFFSETTO:-0500
TZNAME:CDT
DTSTART:20150308T080000
END:DAYLIGHT
BEGIN:STANDARD
TZOFFSETFROM:-0500
TZOFFSETTO:-0600
TZNAME:CST
DTSTART:20151101T070000
END:STANDARD
END:VTIMEZONE
BEGIN:VEVENT
DTSTART;TZID=America/Chicago:20141206T124500
DTEND;TZID=America/Chicago:20141206T144500
DTSTAMP:20260423T075742
CREATED:20141028T143256Z
LAST-MODIFIED:20141028T143256Z
UID:278-1417869900-1417877100@graniteband.com
SUMMARY:Grand Manor Senior Center
DESCRIPTION:Granite City Swing will be playing at the Grand Manor Senior Center on Saturday\, December 6th from 12:45 until 2:45. The Grand Manor Senior Center is in Swansea (between Fairview Heights and Belleville).
URL:https://graniteband.com/wordpress/event/grand-manor-senior-center/
LOCATION:Grand Manor Senior Center\, 58 Frank Scott Parkway\, Swansea\, IL\, 62226\, United States
CATEGORIES:Performance,Swing Band
END:VEVENT
END:VCALENDAR