BEGIN:VCALENDAR
VERSION:2.0
PRODID:-//Granite City Community Band - ECPv6.15.20//NONSGML v1.0//EN
CALSCALE:GREGORIAN
METHOD:PUBLISH
X-ORIGINAL-URL:https://graniteband.com/wordpress
X-WR-CALDESC:Events for Granite City Community Band
REFRESH-INTERVAL;VALUE=DURATION:PT1H
X-Robots-Tag:noindex
X-PUBLISHED-TTL:PT1H
BEGIN:VTIMEZONE
TZID:America/Chicago
BEGIN:DAYLIGHT
TZOFFSETFROM:-0600
TZOFFSETTO:-0500
TZNAME:CDT
DTSTART:20130310T080000
END:DAYLIGHT
BEGIN:STANDARD
TZOFFSETFROM:-0500
TZOFFSETTO:-0600
TZNAME:CST
DTSTART:20131103T070000
END:STANDARD
BEGIN:DAYLIGHT
TZOFFSETFROM:-0600
TZOFFSETTO:-0500
TZNAME:CDT
DTSTART:20140309T080000
END:DAYLIGHT
BEGIN:STANDARD
TZOFFSETFROM:-0500
TZOFFSETTO:-0600
TZNAME:CST
DTSTART:20141102T070000
END:STANDARD
BEGIN:DAYLIGHT
TZOFFSETFROM:-0600
TZOFFSETTO:-0500
TZNAME:CDT
DTSTART:20150308T080000
END:DAYLIGHT
BEGIN:STANDARD
TZOFFSETFROM:-0500
TZOFFSETTO:-0600
TZNAME:CST
DTSTART:20151101T070000
END:STANDARD
END:VTIMEZONE
BEGIN:VEVENT
DTSTART;TZID=America/Chicago:20141101T140000
DTEND;TZID=America/Chicago:20141101T163000
DTSTAMP:20260423T094223
CREATED:20141008T151330Z
LAST-MODIFIED:20141008T152923Z
UID:268-1414850400-1414859400@graniteband.com
SUMMARY:Swing Rehearsal
DESCRIPTION:The final monthly rehearsal at Lincoln Center is Saturday\, November 1st. This will be the last monthly rehearsal of the year. We will pick back up with monthly rehearsals in 2015.
URL:https://graniteband.com/wordpress/event/nov-2014-swing-rehearsal/
LOCATION:Lincoln Center\, 822 Niedringhaus Ave\, Granite City\, IL\, 62040\, United States
CATEGORIES:Practice,Swing Band
END:VEVENT
END:VCALENDAR