BEGIN:VCALENDAR
VERSION:2.0
PRODID:-//Granite City Community Band - ECPv6.15.20//NONSGML v1.0//EN
CALSCALE:GREGORIAN
METHOD:PUBLISH
X-ORIGINAL-URL:https://graniteband.com/wordpress
X-WR-CALDESC:Events for Granite City Community Band
REFRESH-INTERVAL;VALUE=DURATION:PT1H
X-Robots-Tag:noindex
X-PUBLISHED-TTL:PT1H
BEGIN:VTIMEZONE
TZID:America/Chicago
BEGIN:DAYLIGHT
TZOFFSETFROM:-0600
TZOFFSETTO:-0500
TZNAME:CDT
DTSTART:20120311T080000
END:DAYLIGHT
BEGIN:STANDARD
TZOFFSETFROM:-0500
TZOFFSETTO:-0600
TZNAME:CST
DTSTART:20121104T070000
END:STANDARD
BEGIN:DAYLIGHT
TZOFFSETFROM:-0600
TZOFFSETTO:-0500
TZNAME:CDT
DTSTART:20130310T080000
END:DAYLIGHT
BEGIN:STANDARD
TZOFFSETFROM:-0500
TZOFFSETTO:-0600
TZNAME:CST
DTSTART:20131103T070000
END:STANDARD
BEGIN:DAYLIGHT
TZOFFSETFROM:-0600
TZOFFSETTO:-0500
TZNAME:CDT
DTSTART:20140309T080000
END:DAYLIGHT
BEGIN:STANDARD
TZOFFSETFROM:-0500
TZOFFSETTO:-0600
TZNAME:CST
DTSTART:20141102T070000
END:STANDARD
END:VTIMEZONE
BEGIN:VEVENT
DTSTART;TZID=America/Chicago:20130905T203000
DTEND;TZID=America/Chicago:20130905T213000
DTSTAMP:20260424T090648
CREATED:20130918T204914Z
LAST-MODIFIED:20130919T140633Z
UID:16-1378413000-1378416600@graniteband.com
SUMMARY:Swing Band Practice
DESCRIPTION:
URL:https://graniteband.com/wordpress/event/swing-band-practice/
LOCATION:GC First Assemby of God\, 2317 Madison Ave\, Granite City\, IL\, 62040\, United States
CATEGORIES:Practice,Swing Band
END:VEVENT
END:VCALENDAR